Workbook

Sheet YEAR 1
A1: YEAR 1 | B1: TERM 1 | C1: TERM 2 | D1: TERM 3 | E1: TERM 4 | F1: TERM 5 | G1: TERM 6
A2: READING | B2: If All The World Were by Joseph Coelho. Coming to England by Baroness Floella Benjamin | C2: The Tiger Who Came to Tea by Judith Kerr. Shine by Sarah Asuguo. | D2: The Gruffalo by Julia Donaldson and Axel Scheffler. Out of the Blue by Robert Tregoning. | E2: Giraffes Can't Dance by Giles Andreae and Guy Parker-Rees. Bilal cooks daal by Aisha Saeed and Anoosha Syed. | F2: Paddington Bear by Michael Bond. A planet full of plastic by Neal Layton. | G2: Malala's Magic Pencil - Malala Yousafzai. The Day the Crayons quit by Drew Daywalt and Oliver Jeffers.
A3: WRITING
A4: MATHS | B4: Place Value (10) Begin -Addition and Subtraction (10) | C4: Addition and Subtraction (10) Shape | D4: Place Value (20) Addition and Subtraction (20) | E4: Place Value (50) Length and height Mass and Volume | F4: Multiplication and Division Fractions Position and Direction | G4: Place Valeu (100) Money Time
A5: SCIENCE | B5: Seasonal Changes | C5: Animals including humans (humans) | D5: Plants | E5: Everyday Materals | F5: Plants | G5: Animals Including Humans (animals)
A6: HISTORY | B6: It's All About Me | C6: =HUMANITITES!D5 -> 0 | D6: Nurturing Nurses | E6: =HUMANITITES!F5 -> 0 | F6: Reach for the skies | G6: =HUMANITITES!H5 -> 0
A7: GEOGRAPHY | C7: Home Sweet Home | E7: London's Calling | F7: =HUMANITITES!G4 -> 0 | G7: Whirling Weather
A8: RE | B8: Christianity - Should people take care of the world. | C8: Christianity - Are symbols better that words at expressing religious beliefs? | D8: Christianity - Was it always easy for Jesus to show friendship? | E8: Christianity - Why was Jesus welcomed like a King by the crowds on Palm Sunday? | F8: Judaism - Why is Shabbat important to Jewish Children? | G8: Judaism - How does celebrating Chanukah make Jewish children feel closer to God?
A9: Art & Design | B9: Spirals (Drawing & watercolour) Molly Haslund | D9: Simple Printmaking (Printing) | F9: Playful Making (Sculpture) Christo and Jeanne-Claude
A10: Computing | B10: Hardware Explorers | C10: Programs and Algorithms | D10: Digital Art | E10: Introduction to Debugging | F10: Writing Algorithms | G10: Internet Explorers
A11: D&T | B11: Under My Umbrella (textiles) | D11: Bridges (structures) | F11: Super Smoothie (cooking and nutrtion)
A12: MFL | B12: Les Salutations - Greetings (E) - informally taught | E12: Comptines et Chansons - Nursery Rhymes (E)
A13: Music | B13: Keeping the pulse (My favourite things) | C13: Tempo (Snail and mouse) | D13: Dynamics (Seaside) | E13: Sound patterns (Fairy tales) | F13: Pitch (Superheroes) | G13: Musical symbols (Under the sea)
A14: PSHE | B14: Being Me in My World | C14: Celebrating Difference | D14: Dreams and Goals | E14: Healthy Me | F14: Relationships | G14: Changing Me
A15: PE | B15: ='YEAR 2'!B15 -> Dance Attack Defend Shoot | C15: ='YEAR 2'!C15 -> Gynastics Attack Defend Shoort | D15: ='YEAR 2'!D15 -> QAA Hit Catch Run | E15: ='YEAR 2'!E15 -> Gymnastics Hit Catch Run | F15: ='YEAR 2'!F15 -> Run Jump Throw Send and Return | G15: ='YEAR 2'!G15 -> Run Jump Throw Send and Return

Sheet YEAR 2
A1: YEAR 2 | B1: TERM 1 | C1: TERM 2 | D1: TERM 3 | E1: TERM 4 | F1: TERM 5 | G1: TERM 6
A2: READING | B2: Claude going for Gold by Alex T. Smith | C2: The Night we got stuck in a story by Ben Miller | D2: Flat Stanley By Jeff Brown | E2: Suzy Orbit, Astronaut by Ruth Quayle and Jez Tuya | F2: The HodgeHeg by Dick King Smith | G2: Oliver and the Seawigs by Sarah McIntyre and Philip Reeve
A3: WRITING
A4: MATHS | B4: Place Value Addition and Subtraction | C4: Addition and Subtraction Shape | D4: Money Multiplication and Division | E4: Multiplication and Division Legth and height Mass, Capacity and temperature | F4: Fractions Time | G4: Statistics Position and Direction Consolidation
A5: SCIENCE | B5: Playground Games (Everyday Materials) | C5: Living things and their habitats (habitats) | D5: Animals Including Humans (humans) | E5: Plants | F5: Living Things and Their Habitats (food chains) Weather and Climate
A6: HISTORY | C6: =HUMANITITES!D7 -> Local Study- Reading | E6: =HUMANITITES!F7 -> Extraordinary Explorers | G6: =HUMANITITES!H7 -> London's Burning
A7: GEOGRAPHY | B7: =HUMANITITES!C6 -> You're Europe | D7: =HUMANITITES!E6 -> Wonderful World | F7: =HUMANITITES!G6 -> Coming to Kenya
A8: RE | B8: Christianity - Is it possible to be kind to everyone all of the time? | C8: Christianity - Why did God give Jesus to the world? | D8: Islam - Does praying at regular intervals everyday help Muslims in their every day life? | E8: Christianity - Is it true that Jesus came back to life again? | F8: Islam - How does going to the mosque give Muslims a sense of belonging? | G8: Islam - Does completing Hajj make a person a better Muslim?
A9: Art & Design | B9: Explore & Draw (Drawing) Rosie James and Alice Fox | D9: Flora and Fauna (Drawing & Collage) Eric Carle | F9: Be An Architect (Architecture) Hundertwasser and Zaha Hadid
A10: D&T | B10: Terrific Towers (structures) | D10: Wonderful world of Wool (textiles) | F10: Dynamic Draw Bridges (mechanical Systems)
A11: Computing | B11: Algorithmic Thinking | C11: Interenet Awareness | D11: Creating Presentations | E11: Excellent Excel | F11: Learning to Code | G11: Digital Citizens
A12: MFL | B12: Les Transports - Transport (E) | D12: Les Couleurs et Les Nombres - Numbers & Colours (E) | F12: Les Formes - Shapes (E)
A13: Music | B13: Call and response (Animals) | C13: Instruments (Musical storytelling) | D13: Contrasting dynamics (Space) | E13: Singing (On this island) | F13: Structure (Myths and legends) | G13: Pitch (Musical Me)
A14: PSHE | B14: Being Me in My World | C14: Celebrating Difference | D14: Dreams and Goals | E14: Healthy Me | F14: Relationships | G14: Changing Me
A15: PE | B15: =PE!B4 -> Dance Attack Defend Shoot | C15: =PE!D4 -> Gynastics Attack Defend Shoort | D15: =PE!E4 -> QAA Hit Catch Run | E15: =PE!F4 -> Gymnastics Hit Catch Run | F15: =PE!G4 -> Run Jump Throw Send and Return | G15: =PE!H4 -> Run Jump Throw Send and Return

Sheet YEAR 3
A1: YEAR 3 | B1: TERM 1 | C1: TERM 2 | D1: TERM 3 | E1: TERM 4 | F1: TERM 5 | G1: TERM 6
A2: READING | B2: =Reading!C29 -> The Stolen Spear by Saviour Pirotta | C2: The Iron Man by Ted Hughes | D2: The Sheep Pig by Dick King Smith | E2: The Twits by Roald Dahl | F2: Fortunately the milk by Neil Gaiman and Chris Riddell | G2: Marcy and the Riddle of the Sphinx by Joe Todd Stanton
A3: WRITING
A4: MATHS | B4: Place Value Addition and Subtraction | C4: Addition and Subtraction Multiplication and Division | D4: Multiplication and Division Length and Perimeter | E4: Fractions Mass and Capacity | F4: Fractions Money Time | G4: Time Shape Statistics
A5: SCIENCE | B5: Rocks | C5: Light | D5: Animals including humans (skeleton) | E5: Forces and Magnets | F5: Animals Including Humans (nutrition) | G5: Plants
A6: HISTORY | B6: Flint, Fire and Forage | D6: Trible Tales | E6: =HUMANITITES!F9 -> 0 | F6: Ancient Egyptians | G6: =HUMANITITES!H9 -> 0
A7: GEOGRAPHY | B7: =HUMANITITES!C8 -> 0 | C7: Countries, Countries and Cities to See! | D7: =HUMANITITES!E8 -> 0 | E7: What's Beneath Our Feet? | F7: =HUMANITITES!G8 -> 0 | G7: Shakes and Quakes
A8: RE | B8: Sikhism - Does joining the Khalsa make a person a better Sikh? | C8: Christianity - Has Christmas lost its true meaning? | D8: Christianity - Were these miracles or are there some other explanations? | E8: Christianity - Why do Christians call the day Jesus died ‘Good Friday’? | F8: Sikhism - What is the importance of sharing to Sikhs? | G8: Sikhism - What is the best way for a Sikh to show commitment to God?
A9: Art & Design | B9: Gestural Drawing with Charcoal (Drawing) Heather Hansen | D9: Working with Shape and Colour Henri Mattise | F9: Telling stories through drawing & Making Rosie Hurley
A10: D&T | B10: Ready to Pop (Mechanical System) | D10: You've Been Framed (Structures) | F10: I'm in Love with My Car (Mechincal/Electrical)
A11: Computing | B11: Time to Travel | C11: Apply our coding "Alien at School" | D11: Networks | E11: Communication Online | F11: Branching Databases | G11: Presenting my Ideas
A12: MFL | B12: =MFL!B5 -> Phonetics Lesson 1 (C) & I am Learning French (E) | C12: =MFL!C5 -> Les Fruits - Fruits (E) | D12: =MFL!D5 -> Les animaux - Animals (E) | E12: =MFL!E5 -> Les saisons - Seasons (E) | F12: =MFL!F5 -> Je peux - I can (E) | G12: =MFL!G5 -> Petit Chaperon Rouge - Little Red Riding Hood (E)
A13: Music | B13: Ballads | C13: Creating compositions in response to an animation | D13: Developing singing techniques | E13: Pentatonic melodies and composition | F13: Jazz | G13: Traditional instruments and improvisation
A14: PSHE | B14: Being Me in My World | C14: Celebrating Difference | D14: Dreams and Goals | E14: Healthy Me | F14: Relationships | G14: Changing Me
A15: PE | B15: =PE!B5 -> Dance Netball | C15: =PE!D5 -> Gymnastics Dodgeball | D15: =PE!E5 -> QAA Football | E15: =PE!F5 -> Tag Rugby Hockey | F15: =PE!G5 -> Rounders Tennis | G15: =PE!H5 -> Athletics Cricket

Sheet YEAR 4
A1: YEAR 4 | B1: TERM 1 | C1: TERM 2 | D1: TERM 3 | E1: TERM 4 | F1: TERM 5 | G1: TERM 6
A2: READING | B2: Matilda by Roald Dahl | C2: Varjack Paw by SF Said | D2: Charlotte's Web by E.B. White | E2: Ariki and the Island of Wonders by Nicola Davies | F2: Stig of the Dump by Clive King | G2: Welcome to nowhere by Elizabeth Laird
A3: WRITING
A4: MATHS | B4: Place Value Addition and Subtraction | C4: Measurement Area Multiplication and Division | D4: Multiplication and Division Length and Perimeter | E4: Fractions Decimals | F4: Decimals Money Time | G4: Shape Statistics Position and direction
A5: SCIENCE | B5: Living things and their habitats (classification) | C5: States of Matter | D5: Sound | E5: Living things and their habitats (changing environments) | F5: Electricity | G5: Animals including humans
A6: HISTORY | C6: Rampaging Romans | E6: =HUMANITITES!F11 -> Anglo Saxons | G6: =HUMANITITES!H11 -> Violent Vikings
A7: GEOGRAPHY | B7: =HUMANITITES!C10 -> Moving Mountains | D7: Spectacular Spain | F7: =HUMANITITES!G10 -> Amazing Amazon
A8: RE | B8: Judaism - How special is the relationship Jewish people have with God? | C8: Christianity - What is the most significant part of the Nativity story for Christians today? | D8: Judaism - How important is it for Jewish people to do what God asks them to? | E8: Christianity - Is forgiveness always possible? | F8: Judaism - What is the best way for a Jewish person to show commitment to God? | G8: Christianity - Do people need to go to church to show they are Christians?
A9: Art & Design | B9: Sory telling through drawing (Drawing) Laura Carlin and Shaun Tan | D9: Exploring Still Life (Drawing) Paul Cezanne | F9: Sculpture,Structure, Inventiveness & Determination (Sculpture) Marcus Coates
A10: D&T | B10: On a Roll (cooking and nutrition) | D10: Quizzical Quilting (Textiles) | F10: Create a Buzz (Mechanical/Electrical)
A11: Computing | B11: Programming | C11: Amination Adventurers | D11: Presenting Data | E11: Advertising | F11: Making a Quiz | G11: Desktop Publishing
A12: MFL | B12: =MFL!B6 -> Phonetics Lesson 2 (C) & En classe - The Classroom (I) | C12: =MFL!C6 -> Je me présente - Presenting Myself (I) | D12: =MFL!D6 -> La famille - Family (I) | E12: =MFL!E6 -> Au café - At the Café (I) | F12: =MFL!F6 -> Chez Moi - My Home (I) | G12: =MFL!G6 -> Boucle D'Or Et Les Trois Ours - Goldilocks (I)
A13: Music | B13: Body and tuned percussion | C13: Rock and Roll | D13: Changes in pitch, tempo and dynamics | E13: Haiku, music and performance | F13: Samba and carnival sounds and instruments | G13: Adapting transporting motifs
A14: PSHE | B14: Being Me in My World | C14: Celebrating Difference | D14: Dreams and Goals | E14: Healthy Me | F14: Relationships | G14: Changing Me
A15: PE | B15: =PE!B6 -> Dance Netball | C15: =PE!D6 -> Gymnastics Dodgeball | D15: =PE!E6 -> QAA Football | E15: =PE!F6 -> Tag Rugby Hockey | F15: =PE!G6 -> Rounders Swimming | G15: =PE!H6 -> Athletics Swimming

Sheet YEAR 5
A1: YEAR 5 | B1: TERM 1 | C1: TERM 2 | D1: TERM 3 | E1: TERM 4 | F1: TERM 5 | G1: TERM 6
A2: READING | B2: =Reading!C43 -> Kensuke's Kingdom by Michael Morpurgo | C2: Race to the Frozen North by Catherine Johnson | D2: =Reading!C45 -> Pig Heart Boy by Malorie Blackman | E2: =Reading!C46 -> Rooftoppers by Katherine Rundell | F2: =Reading!C47 -> The Demon Headmaster by Gillian Cross | G2: =Reading!C48 -> Wonder by R.J. Palacio
A3: WRITING
A4: MATHS | B4: Place Value Addition and Subtraction x and ÷ | C4: x ÷ (prime, square, factors, multiples,10-100-1000) Fractions | D4: x and ÷ Fractions, decimals and percentages | E4: Decimals and percentages Perimeter and Area Statistics | F4: Shape Position and Direction Decimals | G4: Decimals Negative Numbers Converting Units Volume
A5: SCIENCE | B5: Properties and changes of materials (properties) | C5: Forces | D5: Properties and changes of materials (changes) | E5: Earth and Space | F5: Living Things and Their Habitats | G5: Animals including humans
A6: HISTORY | B6: Off With Her Head | C6: =HUMANITITES!D13 -> 0 | D6: Groovy Greeks | E6: =HUMANITITES!F13 -> 0 | F6: Mills, Money,Mayhem | G6: =HUMANITITES!H13 -> 0
A7: GEOGRAPHY | B7: =HUMANITITES!C12 -> 0 | C7: Rivers | E7: Cool Coasts | F7: =HUMANITITES!G12 -> 0 | G7: Field to Fork
A8: RE | B8: Hinduism - What is the best way for a Hindu to show commitment to God? | C8: Christianity - Is the Christmas story true? | D8: Hinduism - How can Brahman be everywhere and in everything? | E8: Christianity - Did God intend Jesus to be crucified and was Jesus aware? | F8: Hinduism - Do beliefs in karma, samsara, and moksha help Hindus live good lives? | G8: Christianity - What is the best way for a Christian to show commitment to God?
A9: Art & Design | B9: Typography & Maps Louise Fili | D9: Mixed Media Land & City Scapes (Printmaking) Vanessa Gardiner, Shoreditch Sketcher, Kittie Jones | F9: Architecture: Dream Big or Small? Shoreditch Sketcher
A10: D&T | B10: Marble run (structures) | D10: Pinball Wizard (Mechanical Systems) | F10: Cam Toys
A11: Computing | B11: Complex Programming | C11: Broadcasting | D11: Analysing Data | E11: Video Montage | F11: Staying Safe Online | G11: Repetition and Procedures
A12: MFL | B12: =MFL!B7 -> Phonetics Lesson 3 (C) & As-Tu Un Animal? Do You Have a Pet? (I) | C12: =MFL!C7 -> La date - The Date (I) | D12: =MFL!D7 -> Quel Temps Fait-il? - The weather (I) | E12: =MFL!E7 -> Les Vetements - Clothes (I) | F12: =MFL!F7 -> Les Habitats - Habitats (I) | G12: =MFL!G7 -> Le Week-end - The Weekend (P)
A13: Music | B13: Composition notation | C13: Blue | D13: South and West Africa | E13: Composition to represent the festival of colour | F13: Music theatre | G13: Looping and remixing
A14: PSHE | B14: Being Me in My World | C14: Celebrating Difference | D14: Dreams and Goals | E14: Healthy Me | F14: Relationships | G14: =PSHE!G6 -> Changing Me
A15: PE | B15: =PE!B7 -> Dance Netball | C15: =PE!D7 -> Gymnastics Dodgeball | D15: =PE!E7 -> QAA Football | E15: =PE!F7 -> Tag Rugby Hockey | F15: =PE!G7 -> Rounders Tennis | G15: =PE!H7 -> Athletics Cricket

Sheet YEAR 6
A1: YEAR 6 | B1: TERM 1 | C1: TERM 2 | D1: TERM 3 | E1: TERM 4 | F1: TERM 5 | G1: TERM 6
A2: READING | B2: =Reading!C50 -> Letters From a Lighthouse by Emma Carroll | C2: =Reading!C51 -> Oh Maya Gods! By Maz Evans | D2: =Reading!C52 -> The London Eye Mystery by Siobhan Dowd | E2: =Reading!C53 -> The Wall between us by Dan Smith | F2: =Reading!C54 -> Holes by Louis Sachar | G2: =Reading!C55 -> The Final Year by Matt Goodfellow
A3: WRITING | B3: Narrative Non Chronological Report | C3: Diary Speech Newspaper | D3: Narrative | E3: Diary Explanation Text Brochure | F3: Balanced Argument Interview | G3: Letter Poetry Shakespeare
A4: MATHS | B4: Place Value + - x ÷ | C4: BODMAS Fractions Measurement (conversions) | D4: Decimals Fractions, Decimals and Percentages Statistics | E4: Algebra Ratio Area and Perimeter | F4: Statistics Position and direction Shape Revision | G4: Investigvations
A5: SCIENCE | B5: Light | C5: Electricity | D5: Evolution and inheritance | E5: Living things and their habitat | F5: Animals including humans | G5: Climate Change
A6: HISTORY | C6: =HUMANITITES!D15 -> Mysterious Maya | E6: =HUMANITITES!F15 -> Woeful WW2 | G6: =HUMANITITES!H15 -> War at home | H6: =HUMANITITES!I15 -> 0
A7: GEOGRAPHY | B7: =HUMANITITES!C14 -> Green Planet | D7: =HUMANITITES!E14 -> Blue Planet | F7: =HUMANITITES!G14 -> Overheating World
A8: RE | B8: Islam - What is the best way for a Muslim to show commitment to God? | C8: Christianity - How significant is it that Mary was Jesus’ mother? | D8: Christianity - Is anything ever eternal? | E8: Christianity - Is Christianity still a strong religion 2000 years after Jesus was on earth? | F8: Islam - Does belief in Akhirah (life after death) help Muslims lead good lives?
A9: Art & Design | B9: Flat yet Sculptural 2D Drawing to 3D Making Lubaina Himid and Claire Harrup | D9: Exploring Identity Njideka Akunyili, Yinka Shonibare | F9: Brave Clour Olafur Eliasson
A10: D&T | B10: Take a Seat (Textiles) | D10: Hatts off to you (Structures) | F10: Great British Menu (cooking and nutrition)
A11: Computing | B11: =COMPUTING!B23 -> Different Languages | C11: =COMPUTING!C23 -> Meeting a Brief | D11: =COMPUTING!D23 -> Flowol + Internet Searches | E11: =COMPUTING!E23 -> Code Breakers | F11: =COMPUTING!F23 -> Solving Problems Using Data | G11: =COMPUTING!G23 -> Internet Fairness | K11: =HUMANITITES!L19 -> 0
A12: MFL | B12: =MFL!B8 -> Phonetics Lesson 4 (C) & Manger et bouger - Healthy Living (P) | C12: =MFL!C8 -> Manger et bouger - Healthy Living (P) | D12: =MFL!D8 -> A l'école - At School (P) | E12: =MFL!E8 -> A l'école - At School (P) | F12: =MFL!F8 -> Les Verbes Réguliers - Regular Verbs (P) | G12: WW2
A13: Music | B13: Dynamics | C13: Songs in WWII | D13: Film music | E13: Themes and variations | F13: Baroque | G13: Composing and performing a leavers song
A14: PSHE | B14: Being Me in My World | C14: Celebrating Difference | D14: Dreams and Goals | E14: Healthy Me | F14: Relationships | G14: Changing Me
A15: PE | B15: =PE!B8 -> Dance Netball | C15: =PE!D8 -> Gymnastics Dodgeball | D15: =PE!E8 -> QAA Football | E15: =PE!F8 -> Tag Rugby Hockey | F15: =PE!G8 -> Rounders Tennis | G15: =PE!H8 -> Athletics Cricket

Sheet HUMANITITES
C1: TERM 1 | D1: TERM 2 | E1: TERM 3 | F1: TERM 4 | G1: TERM 5 | H1: TERM 6
A2: Nursery | B2: Understanding the World | C2: Begin to make sense of their own life-story and family’s history. | D2: Know that there are different countries in the world and talk about the differences they have experienced or seen in photos. | E2: Know that there are different countries in the world and talk about the differences they have experienced or seen in photos. | F2: Begin to understand the need to respect and care for the natural environment and all living things. Children as babies and toddlers. | G2: First lady to fly across the Atlantic- Amelia Earhart. | H2: Medicine in the Past- Mary Seacole
A3: Reception | B3: Understanding the World | C3: Talk about the lives of the people around them and their roles in society | D3: Talk about the lives of the people around them and their roles in society | E3: Compare and contrast characters from stories, including figures from the past. | F3: Recognise some environments that are different to the one in which they live. | G3: Comment on images of familiar situations in the past. Compare and contrast characters from stories, including figures from the past. | H3: Recognise some similarities and differences between life in this country and life in other countries.
A4: Year 1 | B4: Geography Unit | D4: Home Sweet Home | F4: London's Calling | H4: Whirling Weather
A5: Year 1 | B5: History Unit | C5: It's All About Me | E5: Nuturing Nurses | G5: Reach for the Skies
A6: Year 2 | B6: Geography Unit | C6: You're Europe | E6: Wonderful World | G6: Coming to Kenya
B7: History Unit | D7: Local Study- Reading | F7: Extraordinary Explorers | H7: London's Burning
A8: Year 3 | B8: Geography Unit | D8: Countries, Counties and Cities to See! | F8: What's Beneath Our Feet? | H8: Shakes and Quakes
B9: History Unit | C9: Flint, Fire and Forage | D9: Home Sweet Home | E9: Tribe Tales | G9: Ancient Egyptians
A10: Year 4 | B10: Geography Unit | C10: Moving Mountains | E10: Spectacular Spain | G10: Amazing Amazon
B11: History Unit | D11: Rampaging Romans | F11: Anglo Saxons | H11: Violent Vikings
A12: Year 5 | B12: Geography Unit | D12: Rivers | F12: Cool Coasts | H12: Field to Fork
B13: History Unit | C13: Off With Her Head | E13: Groovy Greeks | G13: Mills, Money, Mayhem (local history)
A14: Year 6 | B14: Geography Unit | C14: Green Planet | E14: Blue Planet | G14: Overheating World
B15: History Unit | D15: Mysterious Maya | F15: Woeful WW2 | H15: War at home

Sheet MATHS
B1: TERM 1 | C1: TERM 2 | D1: TERM 3 | E1: TERM 4 | F1: TERM 5 | G1: TERM 6
A2: Nursery | B2: More than, fewer than, same Explore and build with shapes and objects Explore repeats (patterns) Hear and say number names | C2: Order number names I see 1, 2, 3 join in with repeats (join in with actions in songs - sing repeating songs) Explore position and shape | D2: Show me 1, 2, 3 Move and label 1, 2, 3 Explore p[osition and routines Explore own first patterns | E2: Take and give 1, 2, 3 Match, talk, push and pull Talk about dots Compare and sort collections. | F2: Lead on own repeats Staring to puzzle Making patterns together Make game actions | G2: Show me 5 Stop at 1, 2, 3, 4, 5 My own patterns Match sort and compare
A3: Reception | B3: Match, sort and compare Talk about patterns Find, subitise, represent and find one more/less and composition of 1, 2, 3 | C3: circles and triangles Find, subitise, represent and find one more/less and composition of 1, 2, 3, 4 and 5 Shapes with 4 sides | D3: Alive in 5 (recognising zero, counting, subitising, 1 more/less, composition to 5) Mass and Capacity Growing 6, 7, 8 ( counting, subitising, 1 more/less, composition to 8) | E3: Growing 6, 7, 8 ( odd and even pairs and doubling to 8) Length, height and time Building 9 and 10 | F3: Explore 3D shapes To 20 and beyond How many now? (Adding more and and taking away) | G3: Manipulate, compose and decompose Sharing and grouping Visualise, build and map Make connections
A4: YEAR 1 | B4: Place Value (10) Begin -Addition and Subtraction (10) | C4: Addition and Subtraction (10) Shape | D4: Shape Place Value (20) Addition and Subtraction (20) | E4: Addition and Subtraction (20) Place Value (50) Length and height | F4: Mass and Volume Multiplication and Division Fractions | G4: Position and Direction Place Value (100) Money Time
A5: YEAR 2 | B5: Place Value Addition and Subtraction | C5: Addition and Subtraction | D5: Shape Multiplication and Division | E5: Multiplication and Division Mass, Capacity and temperature | F5: Fractions Time | G5: Money Statistics Length and height Position and Direction Consolidation
A6: YEAR 3 | B6: Place Value Length and Perimeter 1 | C6: Addition and Subtraction | D6: Length and Perimeter 2 Multiplication and Division A Multiplication and Division B | E6: Multiplication and Division B Shape | F6: Fractions A Fractions B | G6: Money Mass and Capacity Time
A7: YEAR 4 | B7: Place Value Addition and Subtraction | C7: Addition and Subtraction Measurement Area Multiplication and Division A | D7: Multiplication and Division B Length and Perimeter | E7: Fractions Decimals | F7: Decimals Money Time | G7: Time Shape Statistics Position and direction
A8: YEAR 5 | B8: Place Value Addition and Subtraction | C8: Multiplication and Division A (factors, multiples, prime, square, cube, x and ÷ by 10, 100 or 1000) Fractions A | D8: Fractions A Multiplication and Division B | E8: Fractions B Decimals and percentages | F8: Decimals and Percentages Perimeter and Area Properties of Shape Statistics | G8: Decimals Negative Numbers Converting Units Volume
A9: YEAR 6 | B9: Place Value Addition, Subtraction, Multiplication and Division | C9: Addition, Subtraction, Multiplication and Division Fractions A Fractions B | D9: Position and Direction Converting Units Decimals | E9: Fractions, Decimals and Percentages Area, Perimeter and Volume | F9: Properties of Shape Ratio Algebra Revision | G9: Ratio Algebra Consolidation Investigations

Sheet COMPUTING
A1: COMPUTING | B1: TERM 1 | C1: TERM 2 | D1: TERM 3 | E1: TERM 4 | F1: TERM 5 | G1: TERM 6
A2: Nursery
A3: Reception | E3: Draw information from a simple map (beebots).
A4: YEAR 1 | B4: Hardware Explorers | C4: Programs and Algorithms | D4: Digital Art | E4: Introduction to Debugging | F4: Writing Algorithms | G4: Internet Explorers
A7: YEAR 2 | B7: Algorithmic Thinking | C7: Interenet Awareness | D7: Creating Presentations | E7: Excellent Excel | F7: Learning to Code | G7: Digital Citizens
A11: YEAR 3 | B11: Time to Travel | C11: Apply our coding "Alien at School" | D11: Networks | E11: Communication Online | F11: Branching Databases | G11: Presenting my Ideas
A15: YEAR 4 | B15: Programming | C15: Amination Adventurers | D15: Presentating Data | E15: Advertising | F15: Making a Quiz | G15: Desktop Publishing
A19: YEAR 5 | B19: Complex Programming | C19: Broadcasting | D19: Analysing Data | E19: Video Montage | F19: Staying Safe Online | G19: Repetition and Procedures
A23: YEAR 6 | B23: Different Languages | C23: Meeting a Brief | D23: Flowol + Internet Searches | E23: Code Breakers | F23: Solving Problems Using Data | G23: Internet Fairness

Sheet Reading
D2: Week 1 | E2: Week 2 | F2: Week 3 | G2: Week 4 | H2: Week 5 | I2: Week 6 | J2: Week 7 | K2: Week 8
A3: Nursery | B3: Term 1 | C3: The colour monster, Elmer, Hello Goodbye Dog, The beach is Loud, Hue Boy
B4: Term 2 | C4: Once There Were Giants, My Granny went to Market, Who's in my family? Daddy, Papa and Me, Mummy, Mama and Me, Mamma Zoom, The teddy Bear
B5: Term 3 | C5: The Gingerbread Man, Little Red Riding Hood, The Three Billy Goats Gruff, All join in
B6: Term 4 | C6: From Egg to Chicken, Window, Once There Were Giants, Ravi's Roar, Farmer Duck, I really want to shout, Julian is a Mermaid
B7: Term 5 | C7: Owl Babies, I am Amelia Earhart, I am Neil Armstrong, The Tale of Two Feathers, Whatever Next
B8: Term 6 | C8: Rebecca Hunter, Police Hurrying, Helping, Saving! Awesome Ambulance, I want to be a dentist, Rosie's Walk, Fred Gers Dressed, Listen to my body
B9: Term 1 | C9: Worrysaurus, Angry Arthur, Ruby's worry, The Great Big Book of Families, I talk like a River, Shine
B10: Term 2 | C10: Kipper's Birthday, Daddy Christmas and Hanukkah Mama, The story of Diwali, Rescue and Jessica, It's Supposed to be Sunny
B11: Term 3 | C11: We are going on a bear hunt, Mog the forgetful cat, The Tiger who came to Tea, Goldilocks and the three crocodiles, Michael Rosen Poems
A12: Reception | B12: Term 4 | C12: The tiny seed, Jaspers Beanstalk, Jack and the Bean Stalk, Right this very minute, Julian is a Mermaid
B13: Term 5 | C13: Going on a place, One Day on Our Blue Planet, The Naughty Bus, Anna Hibiscus' Song, Grandad's Camper
B14: Term 6 | C14: Somebody Swalloed Stanley, Clean Up, Under the Sea, Ned the Lonely Fisherman, The Pirate Mums
A15: Year 1 | B15: Term 1 | C15: If All The World Were by Joseph Coelho. Coming to England by Baroness Floella Benjamin
B16: Term 2 | C16: The Tiger Who Came to Tea by Judith Kerr. Shine by Sarah Asuguo.
B17: Term 3 | C17: The Gruffalo by Julia Donaldson and Axel Scheffler. Out of the Blue by Robert Tregoning.
B18: Term 4 | C18: Giraffes Can't Dance by Giles Andreae and Guy Parker-Rees. Bilal cooks daal by Aisha Saeed and Anoosha Syed.
B19: Term 5 | C19: Paddington Bear by Michael Bond. A planet full of plastic by Neal Layton.
B20: Term 6 | C20: Malala's Magic Pencil - Malala Yousafzai. The Day the Crayons quit by Drew Daywalt and Oliver Jeffers.
A22: Year 2 | B22: Term 1 | C22: Claude going for Gold by Alex T. Smith
B23: Term 2 | C23: The Night we got stuck in a story by Ben Miller
B24: Term 3 | C24: Flat Stanley By Jeff Brown
B25: Term 4 | C25: Suzy Orbit, Astronaut by Ruth Quayle and Jez Tuya
B26: Term 5 | C26: The HodgeHeg by Dick King Smith
B27: Term 6 | C27: Oliver and the Seawigs by Sarah McIntyre and Philip Reeve
A29: Year 3 | B29: Term 1 | C29: The Stolen Spear by Saviour Pirotta
B30: Term 2 | C30: The Iron Man by Ted Hughes
B31: Term 3 | C31: The Sheep Pig by Dick King Smith
B32: Term 4 | C32: The Twits by Roald Dahl
B33: Term 5 | C33: Fortunately the milk by Neil Gaiman and Chris Riddell
B34: Term 6 | C34: Marcy and the Riddle of the Sphinx by Joe Todd Stanton
A36: Year 4 | B36: Term 1 | C36: Matilda by Roald Dahl
B37: Term 2 | C37: Varjack Paw by SF Said
B38: Term 3 | C38: Charlotte's Web by E.B. White
B39: Term 4 | C39: Ariki and the Island of Wonders by Nicola Davies
B40: Term 5 | C40: Stig of the Dump by Clive King
B41: Term 6 | C41: Welcome to nowhere by Elizabeth Laird
A43: Year 5 | B43: Term 1 | C43: Kensuke's Kingdom by Michael Morpurgo
B44: Term 2 | C44: Race to the Frozen North by Catherine Johnson
B45: Term 3 | C45: Pig Heart Boy by Malorie Blackman
...

Sheet SCIENCE
B1: TERM 1 | C1: TERM 2 | D1: TERM 3 | E1: TERM 4 | F1: TERM 5 | G1: TERM 6
A2: Nursery | B2: Use all their senses in hands on exploration of natural materials. Explore collections of materials with similar and/or different properties. Talk about what they see, using a wide range of vocabulary. | C2: Talk about the differences between materials and changes they notice | D2: Explore how things work. Talk about the differences between materials and changes they notice. Use all their senses in hands on exploration of natural materials. | E2: Talk about the differences between materials and changes they notice. Begin to understand the need to respect and care for the natural environment and all living things. | F2: Explore collections of materials with similar and/or different properties. Talk about what they see, using a wide range of vocabulary. Begin to understand the need to respect and care for the natural environment and all living things. | G2: Explore and talk about different forces they can feel.
A3: Reception | B3: Describe what they see, hear and feel whilst outside. | C3: Describe what they see, hear and feel whilst outside. | D3: Describe what they see, hear and feel whilst outside. Explore the natural world around them. | E3: Understand the key features of the life cycle of a plant. | F3: Forces (push and pull) – snapping twigs, pulling on branches etc. Changing states of matter (experience and observe changes) | G3: Comparing seasons. Colours of the rainbow, compare colours from all seasons .
A4: Year 1 | B4: Seasonal Changes | C4: Animals Including Humans (Humans) | D4: Plants | E4: Everyday Materials | F4: Plants | G4: Animals Including Humans (Animals)
A5: Year 2 | B5: Playground Games (Everyday Materials) | C5: Living things and their habitats (Habitats) | D5: Animals Including Humans (Humans) | E5: Plants | F5: Living Things and Their Habitats (food chains) Weather and Climate
A6: Year 3 | B6: Rocks | C6: Light | D6: Animals including humans (skeleton) | E6: Forces and Magnets | F6: Animals Including Humans (nutrition) | G6: Plants
A7: Year 4 | B7: States of Matter | C7: Living things and their habitats (classification) | D7: Sound | E7: Living things and their habitats (changing environments) | F7: Electricity | G7: Animals Including Humans
A8: Year 5 | B8: Properties of material and changes of materials (properties) | C8: Forces | D8: Properties of material and changes of materials (change) | E8: Earth and Space | F8: Living Things and Their Habitats | G8: Animals Including Humans
A9: Year 6 | B9: Light | C9: Electricity | D9: Evolution and Inheritance | E9: Living Things and Their Habitats | F9: Animals Including Humans | G9: Climate Change

Sheet ART
A1: ART | B1: TERM 1 | C1: TERM 2 | D1: TERM 3 | E1: TERM 4 | F1: TERM 5 | G1: TERM 6
A2: Nursery | B2: Junk modelling, art materials out inside and outside
A3: Reception | B3: Junk modelling, art materials out inside and outside
A4: YEAR 1 | B4: Spirals (Drawing & watercolour) Molly Haslund | D4: Simple Printmaking (Printing) | F4: Playful Making (Sculpture) Christo and Jeanne-Claude
A5: YEAR 2 | B5: Explore & Draw (Drawing) Rosie James and Alice Fox | D5: Flora and Fauna (Drawing & Collage) Eric Carle | F5: Be An Architect (Architecture) Hundertwasser and Zaha Hadid
A6: YEAR 3 | B6: Gestural Drawing with Charcoal (Drawing) Heather Hansen | D6: Working with Shape an Colour Henri Mattise | F6: Telling stories through drawing & Making Rosie Hurley
A7: YEAR 4 | B7: Sory telling through drawing (Drawing) Laura Carlin and Shaun Tan | D7: Exploring Still Life (Drawing) Paul Cezanne | F7: Sculpture,Structure, Inventiveness & Determination (Sculpture) Marcus Coates
A8: YEAR 5 | B8: Typography & Maps Louise Fili | D8: Mixed Media Land & City Scapes (Printmaking) Vanessa Gardiner, Shoreditch Sketcher, Kittie Jones | F8: Architecture: Dream Big or Small? Shoreditch Sketcher
A9: YEAR 6 | B9: Flat yet Sculptural 2D Drawing to 3D Making Lubaina Himid and Claire Harrup | D9: Exploring Identity Njideka Akunyili, Yinka Shonibare | F9: Brave Clour Olafur Eliasson

Sheet D&T
A1: DESIGN AND TECHNOLOGY | B1: TERM 1 | C1: TERM 2 | D1: TERM 3 | E1: TERM 4 | F1: TERM 5 | G1: TERM 6
A2: Nursery | B2: Junk modelling, art materials out inside and outside, guttering, crates, planes, large building outside, small building inside, design sheets
A3: Reception | B3: Junk modelling, art materials out inside and outside, guttering, crates, planes, large building outside, small building inside, design sheets
A4: YEAR 1 | B4: Under My Umbrella (textiles) | D4: Bridges (structures) | F4: Super Smoothie (cooking and nutrtion)
A5: YEAR 2 | B5: Terrific Towers (structures) | D5: Wonderful world of Wool (textiles) | F5: Dynamic Draw Bridges (mechanical Systems)
A6: YEAR 3 | B6: Ready to Pop (Mechanical System) | D6: You've Been Framed (Structures) | F6: I'm in Love with My Car (Mechincal/Electrical)
A7: YEAR 4 | B7: On a Roll (cooking and nutrition) | D7: Quizzical Quilting (Textiles) | F7: Create a Buzz (Mechanical/Electrical)
A8: YEAR 5 | B8: Marble run (structures) | D8: Pinball Wizard (Mechanical Systems) | F8: Cam Toys
A9: YEAR 6 | B9: Take a Seat (Textiles) | D9: Hatts off to you (Structures) | F9: Great British Menu (coooking and nutrtion)

Sheet RE
A1: RE | B1: TERM 1 | C1: TERM 2 | D1: TERM 3 | E1: TERM 4 | F1: TERM 5 | G1: TERM 6
A3: Nursery | B3: Continue developing positive attitudes about the differences between people. Know that there are different countries in the world and talk about the differences they have experienced or seen in photos.
A4: Reception | B4: Talk about members of their immediate family and community. | C4: Recognise that people have different beliefs and celebrate special times in different ways. | E4: Recognise some similarities and differences between life in this country and life in other countries. | F4: Recognise some similarities and differences between life in this country and life in other countries.
A5: YEAR 1 | B5: Christianity - Should people take care of the world. | C5: Christianity - Are symbols better that words at expressing religious beliefs? | D5: Christianity - Was it always easy for Jesus to show friendship? | E5: Christianity - Why was Jesus welcomed like a King by the crowds on Palm Sunday? | F5: Judaism - Why is Shabbat important to Jewish Children? | G5: Judaism - How does celebrating Chanukah make Jewish children feel closer to God?
A6: YEAR 2 | B6: Christianity - Is it possible to be kind to everyone all of the time? | C6: Christianity - Why did God give Jesus to the world? | D6: Islam - Does praying at regular intervals everyday help Muslims in their every day life? | E6: Christianity - Is it true that Jesus came back to life again? | F6: Islam - How does going to the mosque give Muslims a sense of belonging? | G6: Islam - Does completing Hajj make a person a better Muslim? | H6: Trip to Mosque Spring 2
A7: YEAR 3 | B7: Sikhism - Does joining the Khalsa make a person a better Sikh? | C7: Christianity - Has Christmas lost its true meaning? | D7: Christianity - Were these miracles or are there some other explanation? | E7: Christianity - Why do Christians call the day Jesus died ‘Good Friday’? | F7: Sikhism - What is the importance of sharing to Sikhs? | G7: Sikhism - What is the best way for a Sikh to show commitment to God? | H7: Trip to Gudwara A 1
A8: YEAR 4 | B8: Judaism - How special is the relationship Jewish people have with God? | C8: Christianity - What is the most significant part of the Nativity story for Christians today? | D8: Judaism - How important is it for Jewish people to do what God asks them to? | E8: Christianity - Is forgiveness always possible? | F8: Judaism - What is the best way for a Jewish person to show commitment to God? | G8: Christianity - Do people need to go to church to show they are Christians?
A9: YEAR 5 | B9: Hinduism - What is the best way for a hindu to show commitment to God? | C9: Christianity - Is the Christmas story true? | D9: Hinduism - How can Brahman be everywhere and in everything? | E9: Christianity - Did God intend Jesus to be crucified and was Jesus aware? | F9: Hinduism - Do beliefs in karma, samsara, and moksha help Hindus live good lives? | G9: Christianity - What is the best way for a Christian to show commitment to God? | H9: Trip to the church Autumn 2
A10: YEAR 6 | B10: Islam - What is the best way for a Muslim to show commitment to God? | C10: Christianity - How significant is it that Mary was Jesus’ mother? | D10: Christianity - Is anything ever eternal? | E10: Christianity - Is Christianity still a strong religion 2000 years after Jesus was on earth? | F10: Islam - Does belief in Akhirah (life after death) help Muslims lead good lives?

Sheet MFL
A1: MFL | B1: TERM 1 | C1: TERM 2 | D1: TERM 3 | E1: TERM 4 | F1: TERM 5 | G1: TERM 6
A2: Early Years | B2: Colours, Greetings and Animals taught through nursery rhymes and songs
A3: Year 1 | B3: Les Salutations - Greetings (E) - informally taught | E3: Comptines et Chansons - Nursery Rhymes (E)
A4: Year 2 | B4: Les Transports - Transport (E) | D4: Les Couleurs et Les Nombres - Numbers & Colours (E) | F4: Les Formes - Shapes (E)
A5: YEAR 3 | B5: Phonetics Lesson 1 (C) & I am Learning French (E) | C5: Les Fruits - Fruits (E) | D5: Les animaux - Animals (E) | E5: Les saisons - Seasons (E) | F5: Je peux - I can (E) | G5: Petit Chaperon Rouge - Little Red Riding Hood (E)
A6: YEAR 4 | B6: Phonetics Lesson 2 (C) & En classe - The Classroom (I) | C6: Je me présente - Presenting Myself (I) | D6: La famille - Family (I) | E6: Au café - At the Café (I) | F6: Chez Moi - My Home (I) | G6: Boucle D'Or Et Les Trois Ours - Goldilocks (I)
A7: YEAR 5 | B7: Phonetics Lesson 3 (C) & As-Tu Un Animal? Do You Have a Pet? (I) | C7: La date - The Date (I) | D7: Quel Temps Fait-il? - The weather (I) | E7: Les Vetements - Clothes (I) | F7: Les Habitats - Habitats (I) | G7: Le Week-end - The Weekend (P)
A8: YEAR 6 | B8: Phonetics Lesson 4 (C) & Manger et bouger - Healthy Living (P) | C8: Manger et bouger - Healthy Living (P) | D8: A l'école - At School (P) | E8: A l'école - At School (P) | F8: Les Verbes Réguliers - Regular Verbs (P) | G8: Les Verbes Réguliers - Regular Verbs (P)

Sheet MUSIC
A1: MUSIC | B1: TERM 1 | C1: TERM 2 | D1: TERM 3 | E1: TERM 4 | F1: TERM 5 | G1: TERM 6
A2: Year R | B2: Celebration Music | C2: Music and Movement | D2: Musical Stories | E2: Exploring Sound | F2: Transport | G2: Big Band
A3: YEAR 1 | B3: Keeping the Pulse (My Favourite Things) | C3: Tempo (Mouse and Snail) | D3: Dynamics (Seaside) | E3: Sound Patterns (Fairytales) | F3: Pitch (Superheroes) | G3: Musical Symbols (Under the Sea)
A4: YEAR 2 | B4: Call and Response (Animals) | C4: Instruments (Musical Storytelling) | D4: Singing (On This Island) | E4: Contrasting Dynamics (Space) | F4: Structure (Myths and Legends) | G4: Pitch (Musical Me)
A5: YEAR 3 | B5: Ballads | C5: Creating Compositions in response to an animation (Mountains) | D5: Developing Singing Technique (Vikings) | E5: Pentatonic Melodies and Composition (Chinese New Year) | F5: Jazz | G5: Traditional Instruments and Improvisation (India)
A6: YEAR 4 | B6: Body and Tuned Percussion (Rainforests) | C6: Rock and Roll | D6: Changes in Pitch, Tempo and Dynamics (Rivers) | E6: Haiku, Music and Performance (Hanami Festival) | F6: Samba and Carnival Sounds and Instruments (South America) | G6: Adapting and Transposing Motifs (Romans)
A7: YEAR 5 | B7: Composition Notation (Ancient Egypt) | C7: Blues | D7: South and West Africa | E7: Composition to Represent the Festival of Colour | F7: Looping and Remixing | G7: Musical Theatre
A8: YEAR 6 | B8: Dynamics, Pitch and Texture (Coast) | C8: Songs of World War 2 | D8: Film Music | E8: Theme and Variations (Pop Art) | F8: Baroque | G8: Composing and Performing a Leaver's Song

Sheet PE
A1: PE | B1: TERM 1 | C1: Term 1 | D1: TERM 2 | E1: TERM 3 | F1: TERM 4 | G1: TERM 5 | H1: TERM 6
A2: Reception | C2: Body Management | D2: Cooperate and Solve Problems | E2: Manipulation and Coordination | F2: Gymnastics | G2: Speed Agility Travel | H2: Dance
A3: YEAR 1 | B3: Dance Attack Defend Shoot | C3: Dance Attack Defend Shoot | D3: Gynastics Attack Defend Shoot | E3: QAA Hit Catch Run | F3: Gymnastics Hit Catch Run | G3: Run Jump Throw Send and Return | H3: Run Jump Throw Send and Return
A4: YEAR 2 | B4: Dance Attack Defend Shoot | C4: Dance Attack Defend Shoot | D4: Gynastics Attack Defend Shoort | E4: QAA Hit Catch Run | F4: Gymnastics Hit Catch Run | G4: Run Jump Throw Send and Return | H4: Run Jump Throw Send and Return
A5: YEAR 3 | B5: Dance Netball | C5: Dance Netball | D5: Gymnastics Dodgeball | E5: QAA Football | F5: Tag Rugby Hockey | G5: Rounders Tennis | H5: Athletics Cricket
A6: YEAR 4 | B6: Dance Netball | C6: Dance Netball | D6: Gymnastics Dodgeball | E6: QAA Football | F6: Tag Rugby Hockey | G6: Rounders Swimming | H6: Athletics Swimming
A7: YEAR 5 | B7: Dance Netball | C7: Dance Netball | D7: Gymnastics Dodgeball | E7: QAA Football | F7: Tag Rugby Hockey | G7: Rounders Tennis | H7: Athletics Cricket
A8: YEAR 6 | B8: Dance Netball | C8: Dance Netball | D8: Gymnastics Dodgeball | E8: QAA Football | F8: Tag Rugby Hockey | G8: Rounders Tennis | H8: Athletics Cricket
C13: red teacher teaches

Sheet PSHE
A1: PSHE | B1: TERM 1 | C1: TERM 2 | D1: TERM 3 | E1: TERM 4 | F1: TERM 5 | G1: TERM 6
A2: YEAR 1 | B2: Feelings- likes and dislikes | C2: Relationships | D2: Physical and Oral Health | E2: First Aid and Caring for Wider World | F2: Money | G2: Respect and Happiest Me
A3: YEAR 2 | B3: Friendships | C3: Looking after your own wellbeing | D3: Physical Health | E3: Online safety and staying safe | F3: Community | G3: Belonging, feelings and respect
A4: YEAR 3 | B4: Friendships and online | C4: Mental Health | D4: Physical Health | E4: First aid, vaccines and immunisations | F4: Community | G4: Families and relationships
A5: YEAR 4 | B5: Family and friends | C5: Feelings | D5: Money | E5: Internet Safety | F5: British Values | G5: Puberty, health and hygiene
A6: YEAR 5 | B6: Peer Influence | C6: Community | D6: Mental Health | E6: Internet Safety | F6: Drugs | G6: Changing Me
A7: YEAR 6 | B7: Careers | C7: Online and money | D7: Healthy Lifestyle | E7: Online | F7: Moving on up - transition | G7: Reproduction
